Package: lute Version: 1.6.0 Command: rm -rf lute.buildbin-libdir && mkdir lute.buildbin-libdir && /Users/biocbuild/BBS/utils/build-universal.sh lute_1.6.0.tar.gz /Library/Frameworks/R.framework/Resources/bin/R lute.buildbin-libdir StartedAt: 2025-11-04 01:47:36 -0500 (Tue, 04 Nov 2025) EndedAt: 2025-11-04 01:48:22 -0500 (Tue, 04 Nov 2025) EllapsedTime: 45.6 seconds RetCode: 0 Status: OK PackageFile: lute_1.6.0.tgz PackageFileSize: 2.09 MiB