Package: lute Version: 1.4.0 Command: /Library/Frameworks/R.framework/Resources/bin/R CMD build --keep-empty-dirs --no-resave-data lute StartedAt: 2025-04-21 16:47:41 -0400 (Mon, 21 Apr 2025) EndedAt: 2025-04-21 16:48:03 -0400 (Mon, 21 Apr 2025) EllapsedTime: 22.3 seconds RetCode: 0 Status: OK PackageFile: lute_1.4.0.tar.gz PackageFileSize: 2.235 MiB