Package: lumi Version: 2.62.0 Command: /home/biocbuild/bbs-3.22-bioc/R/bin/R CMD INSTALL lumi StartedAt: 2025-11-13 16:02:52 -0500 (Thu, 13 Nov 2025) EndedAt: 2025-11-13 16:03:48 -0500 (Thu, 13 Nov 2025) EllapsedTime: 56.4 seconds RetCode: 0 Status: OK