Package: lumi Version: 2.62.0 Command: /home/biocbuild/bbs-3.22-bioc/R/bin/R CMD build --keep-empty-dirs --no-resave-data --md5 lumi StartedAt: 2025-11-11 18:29:45 -0500 (Tue, 11 Nov 2025) EndedAt: 2025-11-11 18:29:47 -0500 (Tue, 11 Nov 2025) EllapsedTime: 2.0 seconds RetCode: 0 Status: OK PackageFile: lumi_2.62.0.tar.gz PackageFileSize: 8.036 MiB