Package: lpNet Version: 2.42.0 Command: /home/biocbuild/R/R/bin/R CMD INSTALL lpNet StartedAt: 2025-11-24 21:20:39 -0000 (Mon, 24 Nov 2025) EndedAt: 2025-11-24 21:20:47 -0000 (Mon, 24 Nov 2025) EllapsedTime: 8.0 seconds RetCode: 0 Status: OK