Package: lpNet Version: 2.42.0 Command: /home/biocbuild/bbs-3.22-bioc/R/bin/R CMD check --install=check:lpNet.install-out.txt --library=/home/biocbuild/bbs-3.22-bioc/R/site-library --timings lpNet_2.42.0.tar.gz StartedAt: 2025-11-12 01:02:53 -0500 (Wed, 12 Nov 2025) EndedAt: 2025-11-12 01:03:50 -0500 (Wed, 12 Nov 2025) EllapsedTime: 57.1 seconds RetCode: 0 Status: WARNINGS CheckDir: lpNet.Rcheck Warnings: 1