Package: lpNet Version: 2.42.0 Command: /home/biocbuild/bbs-3.22-bioc/R/bin/R CMD build --keep-empty-dirs --no-resave-data --md5 lpNet StartedAt: 2025-11-11 18:29:39 -0500 (Tue, 11 Nov 2025) EndedAt: 2025-11-11 18:30:08 -0500 (Tue, 11 Nov 2025) EllapsedTime: 29.0 seconds RetCode: 0 Status: OK PackageFile: lpNet_2.42.0.tar.gz PackageFileSize: 310.1 KiB