Package: lpNet Version: 2.40.0 Command: /home/biocbuild/bbs-3.21-bioc/R/bin/R CMD build --keep-empty-dirs --no-resave-data lpNet StartedAt: 2025-10-15 18:14:47 -0400 (Wed, 15 Oct 2025) EndedAt: 2025-10-15 18:15:17 -0400 (Wed, 15 Oct 2025) EllapsedTime: 30.0 seconds RetCode: 0 Status: OK PackageFile: lpNet_2.40.0.tar.gz PackageFileSize: 307.9 KiB