Package: lpNet Version: 2.40.0 Command: rm -rf lpNet.buildbin-libdir && mkdir lpNet.buildbin-libdir && /Users/biocbuild/BBS/utils/build-universal.sh lpNet_2.40.0.tar.gz /Library/Frameworks/R.framework/Resources/bin/R lpNet.buildbin-libdir StartedAt: 2025-10-15 19:06:06 -0400 (Wed, 15 Oct 2025) EndedAt: 2025-10-15 19:06:14 -0400 (Wed, 15 Oct 2025) EllapsedTime: 8.0 seconds RetCode: 0 Status: OK PackageFile: lpNet_2.40.0.tgz PackageFileSize: 405.2 KiB