Package: lpNet Version: 2.42.0 Maintainer: Lars Kaderali MaintainerEmail: lars.kaderali at uni-greifswald.de git_url: https://git.bioconductor.org/packages/lpNet git_branch: RELEASE_3_22 git_last_commit: a938ca3 git_last_commit_date: 2025-10-29 10:13:37 -0400 (Wed, 29 Oct 2025)