Package: looking4clusters Version: 1.0.0 Command: /home/biocbuild/bbs-3.22-bioc/R/bin/R CMD INSTALL looking4clusters StartedAt: 2025-11-11 15:29:07 -0500 (Tue, 11 Nov 2025) EndedAt: 2025-11-11 15:29:09 -0500 (Tue, 11 Nov 2025) EllapsedTime: 1.9 seconds RetCode: 0 Status: OK