Package: looking4clusters Version: 1.0.0 Command: /home/biocbuild/bbs-3.22-bioc/R/bin/R CMD build --keep-empty-dirs --no-resave-data --md5 looking4clusters StartedAt: 2025-11-11 18:29:28 -0500 (Tue, 11 Nov 2025) EndedAt: 2025-11-11 18:31:13 -0500 (Tue, 11 Nov 2025) EllapsedTime: 105.1 seconds RetCode: 0 Status: OK PackageFile: looking4clusters_1.0.0.tar.gz PackageFileSize: 1.593 MiB