Package: looking4clusters Version: 1.0.0 Command: /Library/Frameworks/R.framework/Resources/bin/R CMD INSTALL looking4clusters StartedAt: 2025-11-03 15:31:58 -0500 (Mon, 03 Nov 2025) EndedAt: 2025-11-03 15:32:03 -0500 (Mon, 03 Nov 2025) EllapsedTime: 4.5 seconds RetCode: 0 Status: OK