Package: looking4clusters Version: 1.0.0 Command: /Library/Frameworks/R.framework/Resources/bin/R CMD build --keep-empty-dirs --no-resave-data looking4clusters StartedAt: 2025-11-03 17:34:28 -0500 (Mon, 03 Nov 2025) EndedAt: 2025-11-03 17:36:23 -0500 (Mon, 03 Nov 2025) EllapsedTime: 114.3 seconds RetCode: 0 Status: OK PackageFile: looking4clusters_1.0.0.tar.gz PackageFileSize: 1.591 MiB