Package: looking4clusters Version: 1.0.0 Command: /Library/Frameworks/R.framework/Resources/bin/R CMD INSTALL looking4clusters StartedAt: 2025-11-10 15:15:35 -0500 (Mon, 10 Nov 2025) EndedAt: 2025-11-10 15:15:37 -0500 (Mon, 10 Nov 2025) EllapsedTime: 1.2 seconds RetCode: 0 Status: OK