Package: looking4clusters Version: 1.0.0 Command: /Library/Frameworks/R.framework/Resources/bin/R CMD build --keep-empty-dirs --no-resave-data looking4clusters StartedAt: 2025-11-10 16:51:43 -0500 (Mon, 10 Nov 2025) EndedAt: 2025-11-10 16:52:25 -0500 (Mon, 10 Nov 2025) EllapsedTime: 42.5 seconds RetCode: 0 Status: OK PackageFile: looking4clusters_1.0.0.tar.gz PackageFileSize: 1.591 MiB