Package: logicFS Version: 2.30.0 Command: /home/biocbuild/R/R/bin/R CMD build --keep-empty-dirs --no-resave-data logicFS StartedAt: 2025-11-11 02:48:22 -0000 (Tue, 11 Nov 2025) EndedAt: 2025-11-11 02:48:39 -0000 (Tue, 11 Nov 2025) EllapsedTime: 17.0 seconds RetCode: 0 Status: OK PackageFile: logicFS_2.30.0.tar.gz PackageFileSize: 253.6 KiB