Package: logicFS Version: 2.30.0 Command: /home/biocbuild/bbs-3.22-bioc/R/bin/R CMD check --install=check:logicFS.install-out.txt --library=/home/biocbuild/bbs-3.22-bioc/R/site-library --timings logicFS_2.30.0.tar.gz StartedAt: 2025-11-12 01:02:16 -0500 (Wed, 12 Nov 2025) EndedAt: 2025-11-12 01:03:13 -0500 (Wed, 12 Nov 2025) EllapsedTime: 57.1 seconds RetCode: 0 Status: OK CheckDir: logicFS.Rcheck Warnings: 0