Package: logicFS Version: 2.28.0 Command: /Library/Frameworks/R.framework/Resources/bin/R CMD INSTALL logicFS StartedAt: 2025-09-25 15:09:03 -0400 (Thu, 25 Sep 2025) EndedAt: 2025-09-25 15:09:36 -0400 (Thu, 25 Sep 2025) EllapsedTime: 33.0 seconds RetCode: 0 Status: OK