Package: logicFS Version: 2.28.0 Command: /Library/Frameworks/R.framework/Resources/bin/R CMD INSTALL logicFS StartedAt: 2025-09-25 15:14:15 -0400 (Thu, 25 Sep 2025) EndedAt: 2025-09-25 15:14:25 -0400 (Thu, 25 Sep 2025) EllapsedTime: 9.5 seconds RetCode: 0 Status: OK