Package: loci2path Version: 1.30.0 Command: /home/biocbuild/bbs-3.22-bioc/R/bin/R CMD build --keep-empty-dirs --no-resave-data --md5 loci2path StartedAt: 2025-11-11 18:29:19 -0500 (Tue, 11 Nov 2025) EndedAt: 2025-11-11 18:29:38 -0500 (Tue, 11 Nov 2025) EllapsedTime: 19.0 seconds RetCode: 0 Status: OK PackageFile: loci2path_1.30.0.tar.gz PackageFileSize: 609.3 KiB