Package: loci2path Version: 1.30.0 Command: /Library/Frameworks/R.framework/Resources/bin/R CMD INSTALL loci2path StartedAt: 2025-11-10 15:10:26 -0500 (Mon, 10 Nov 2025) EndedAt: 2025-11-10 15:10:31 -0500 (Mon, 10 Nov 2025) EllapsedTime: 4.6 seconds RetCode: 0 Status: OK