Package: lmdme Version: 1.52.0 Command: /home/biocbuild/R/R/bin/R CMD INSTALL lmdme StartedAt: 2025-11-13 21:15:59 -0000 (Thu, 13 Nov 2025) EndedAt: 2025-11-13 21:16:32 -0000 (Thu, 13 Nov 2025) EllapsedTime: 33.3 seconds RetCode: 0 Status: OK