Package: lmdme Version: 1.52.0 Command: /home/biocbuild/R/R/bin/R CMD build --keep-empty-dirs --no-resave-data lmdme StartedAt: 2025-11-14 02:52:15 -0000 (Fri, 14 Nov 2025) EndedAt: 2025-11-14 02:52:28 -0000 (Fri, 14 Nov 2025) EllapsedTime: 13.0 seconds RetCode: 0 Status: OK PackageFile: lmdme_1.52.0.tar.gz PackageFileSize: 594.7 KiB