Package: lmdme Version: 1.52.0 Command: /home/biocbuild/bbs-3.22-bioc/R/bin/R CMD check --install=check:lmdme.install-out.txt --library=/home/biocbuild/bbs-3.22-bioc/R/site-library --timings lmdme_1.52.0.tar.gz StartedAt: 2025-11-14 01:05:40 -0500 (Fri, 14 Nov 2025) EndedAt: 2025-11-14 01:06:29 -0500 (Fri, 14 Nov 2025) EllapsedTime: 49.0 seconds RetCode: 0 Status: WARNINGS CheckDir: lmdme.Rcheck Warnings: 1