Package: lmdme Version: 1.52.0 Command: /home/biocbuild/bbs-3.22-bioc/R/bin/R CMD build --keep-empty-dirs --no-resave-data --md5 lmdme StartedAt: 2025-11-11 18:29:15 -0500 (Tue, 11 Nov 2025) EndedAt: 2025-11-11 18:29:26 -0500 (Tue, 11 Nov 2025) EllapsedTime: 11.0 seconds RetCode: 0 Status: OK PackageFile: lmdme_1.52.0.tar.gz PackageFileSize: 610.4 KiB