Package: lmdme Version: 1.50.0 Command: /home/biocbuild/bbs-3.21-bioc/R/bin/R CMD INSTALL lmdme StartedAt: 2025-10-15 15:10:13 -0400 (Wed, 15 Oct 2025) EndedAt: 2025-10-15 15:10:28 -0400 (Wed, 15 Oct 2025) EllapsedTime: 15.0 seconds RetCode: 0 Status: OK