Package: lmdme Version: 1.50.0 Command: /home/biocbuild/bbs-3.21-bioc/R/bin/R CMD build --keep-empty-dirs --no-resave-data lmdme StartedAt: 2025-10-15 18:14:25 -0400 (Wed, 15 Oct 2025) EndedAt: 2025-10-15 18:14:35 -0400 (Wed, 15 Oct 2025) EllapsedTime: 10.0 seconds RetCode: 0 Status: OK PackageFile: lmdme_1.50.0.tar.gz PackageFileSize: 609.1 KiB