Package: lmdme Version: 1.50.0 Command: /Library/Frameworks/R.framework/Resources/bin/R CMD INSTALL lmdme StartedAt: 2025-10-13 15:30:29 -0400 (Mon, 13 Oct 2025) EndedAt: 2025-10-13 15:30:35 -0400 (Mon, 13 Oct 2025) EllapsedTime: 6.0 seconds RetCode: 0 Status: OK