Package: lmdme Version: 1.50.0 Command: rm -rf lmdme.buildbin-libdir && mkdir lmdme.buildbin-libdir && /Users/biocbuild/BBS/utils/build-universal.sh lmdme_1.50.0.tar.gz /Library/Frameworks/R.framework/Resources/bin/R lmdme.buildbin-libdir StartedAt: 2025-10-15 19:05:36 -0400 (Wed, 15 Oct 2025) EndedAt: 2025-10-15 19:05:42 -0400 (Wed, 15 Oct 2025) EllapsedTime: 5.7 seconds RetCode: 0 Status: OK PackageFile: lmdme_1.50.0.tgz PackageFileSize: 731.9 KiB