Package: lisaClust Version: 1.18.0 Command: /home/biocbuild/bbs-3.22-bioc/R/bin/R CMD check --install=check:lisaClust.install-out.txt --library=/home/biocbuild/bbs-3.22-bioc/R/site-library --timings lisaClust_1.18.0.tar.gz StartedAt: 2025-11-15 01:08:12 -0500 (Sat, 15 Nov 2025) EndedAt: 2025-11-15 01:17:45 -0500 (Sat, 15 Nov 2025) EllapsedTime: 572.7 seconds RetCode: 0 Status: OK CheckDir: lisaClust.Rcheck Warnings: 0