Package: lisaClust Version: 1.18.0 Command: /home/biocbuild/bbs-3.22-bioc/R/bin/R CMD build --keep-empty-dirs --no-resave-data --md5 lisaClust StartedAt: 2025-11-11 18:29:08 -0500 (Tue, 11 Nov 2025) EndedAt: 2025-11-11 18:33:37 -0500 (Tue, 11 Nov 2025) EllapsedTime: 269.2 seconds RetCode: 0 Status: OK PackageFile: lisaClust_1.18.0.tar.gz PackageFileSize: 2.386 MiB