Package: lisaClust Version: 1.18.0 Command: /Library/Frameworks/R.framework/Resources/bin/R CMD INSTALL lisaClust StartedAt: 2025-11-03 15:38:34 -0500 (Mon, 03 Nov 2025) EndedAt: 2025-11-03 15:39:11 -0500 (Mon, 03 Nov 2025) EllapsedTime: 36.7 seconds RetCode: 0 Status: OK