Package: lisaClust Version: 1.18.0 Command: /Library/Frameworks/R.framework/Resources/bin/R CMD build --keep-empty-dirs --no-resave-data lisaClust StartedAt: 2025-11-03 17:33:55 -0500 (Mon, 03 Nov 2025) EndedAt: 2025-11-03 17:38:52 -0500 (Mon, 03 Nov 2025) EllapsedTime: 297.1 seconds RetCode: 0 Status: OK PackageFile: lisaClust_1.18.0.tar.gz PackageFileSize: 2.553 MiB