Package: lisaClust Version: 1.18.0 Command: rm -rf lisaClust.buildbin-libdir && mkdir lisaClust.buildbin-libdir && /Users/biocbuild/BBS/utils/build-universal.sh lisaClust_1.18.0.tar.gz /Library/Frameworks/R.framework/Resources/bin/R lisaClust.buildbin-libdir StartedAt: 2025-11-04 01:47:20 -0500 (Tue, 04 Nov 2025) EndedAt: 2025-11-04 01:48:01 -0500 (Tue, 04 Nov 2025) EllapsedTime: 40.9 seconds RetCode: 0 Status: OK PackageFile: lisaClust_1.18.0.tgz PackageFileSize: 2.639 MiB