Package: lisaClust Version: 1.16.0 Command: /home/biocbuild/R/R/bin/R CMD INSTALL lisaClust StartedAt: 2025-10-09 21:00:35 -0000 (Thu, 09 Oct 2025) EndedAt: 2025-10-09 21:01:15 -0000 (Thu, 09 Oct 2025) EllapsedTime: 39.6 seconds RetCode: 0 Status: OK