Package: lisaClust Version: 1.16.0 Command: /home/biocbuild/R/R/bin/R CMD build --keep-empty-dirs --no-resave-data lisaClust StartedAt: 2025-10-10 02:02:13 -0000 (Fri, 10 Oct 2025) EndedAt: 2025-10-10 02:09:30 -0000 (Fri, 10 Oct 2025) EllapsedTime: 437.2 seconds RetCode: 0 Status: OK PackageFile: lisaClust_1.16.0.tar.gz PackageFileSize: 2.39 MiB