Package: lipidr Version: 2.24.0 Command: /home/biocbuild/bbs-3.22-bioc/R/bin/R CMD INSTALL lipidr StartedAt: 2025-11-11 15:42:56 -0500 (Tue, 11 Nov 2025) EndedAt: 2025-11-11 15:43:24 -0500 (Tue, 11 Nov 2025) EllapsedTime: 28.1 seconds RetCode: 0 Status: OK