Package: lipidr Version: 2.24.0 Command: /home/biocbuild/bbs-3.22-bioc/R/bin/R CMD build --keep-empty-dirs --no-resave-data --md5 lipidr StartedAt: 2025-11-11 18:28:48 -0500 (Tue, 11 Nov 2025) EndedAt: 2025-11-11 18:29:42 -0500 (Tue, 11 Nov 2025) EllapsedTime: 54.1 seconds RetCode: 0 Status: OK PackageFile: lipidr_2.24.0.tar.gz PackageFileSize: 3.346 MiB