Package: lipidr Version: 2.24.0 Command: /Library/Frameworks/R.framework/Resources/bin/R CMD INSTALL lipidr StartedAt: 2025-11-10 15:19:58 -0500 (Mon, 10 Nov 2025) EndedAt: 2025-11-10 15:20:11 -0500 (Mon, 10 Nov 2025) EllapsedTime: 12.3 seconds RetCode: 0 Status: OK