Package: lipidr Version: 2.24.0 Command: /Library/Frameworks/R.framework/Resources/bin/R CMD build --keep-empty-dirs --no-resave-data lipidr StartedAt: 2025-11-10 16:51:24 -0500 (Mon, 10 Nov 2025) EndedAt: 2025-11-10 16:51:47 -0500 (Mon, 10 Nov 2025) EllapsedTime: 23.3 seconds RetCode: 0 Status: OK PackageFile: lipidr_2.24.0.tar.gz PackageFileSize: 3.391 MiB