Package: lipidr Version: 2.24.0 Command: rm -rf lipidr.buildbin-libdir && mkdir lipidr.buildbin-libdir && /Users/biocbuild/BBS/utils/build-universal.sh lipidr_2.24.0.tar.gz /Library/Frameworks/R.framework/Resources/bin/R lipidr.buildbin-libdir StartedAt: 2025-11-10 23:25:03 -0500 (Mon, 10 Nov 2025) EndedAt: 2025-11-10 23:25:17 -0500 (Mon, 10 Nov 2025) EllapsedTime: 13.3 seconds RetCode: 0 Status: OK PackageFile: lipidr_2.24.0.tgz PackageFileSize: 3.541 MiB