Package: lionessR Version: 1.24.0 Command: /Library/Frameworks/R.framework/Resources/bin/R CMD INSTALL lionessR StartedAt: 2025-11-10 15:11:32 -0500 (Mon, 10 Nov 2025) EndedAt: 2025-11-10 15:11:34 -0500 (Mon, 10 Nov 2025) EllapsedTime: 1.2 seconds RetCode: 0 Status: OK