Package: lionessR Version: 1.24.0 Command: /Library/Frameworks/R.framework/Resources/bin/R CMD build --keep-empty-dirs --no-resave-data lionessR StartedAt: 2025-11-10 16:51:20 -0500 (Mon, 10 Nov 2025) EndedAt: 2025-11-10 16:51:29 -0500 (Mon, 10 Nov 2025) EllapsedTime: 9.1 seconds RetCode: 0 Status: OK PackageFile: lionessR_1.24.0.tar.gz PackageFileSize: 2.849 MiB