Package: linkSet Version: 1.0.0 Command: /home/biocbuild/bbs-3.22-bioc/R/bin/R CMD INSTALL linkSet StartedAt: 2025-11-11 15:47:58 -0500 (Tue, 11 Nov 2025) EndedAt: 2025-11-11 15:48:43 -0500 (Tue, 11 Nov 2025) EllapsedTime: 44.4 seconds RetCode: 0 Status: OK