Package: linkSet Version: 1.0.0 Command: /home/biocbuild/bbs-3.22-bioc/R/bin/R CMD check --install=check:linkSet.install-out.txt --library=/home/biocbuild/bbs-3.22-bioc/R/site-library --timings linkSet_1.0.0.tar.gz StartedAt: 2025-11-12 01:00:03 -0500 (Wed, 12 Nov 2025) EndedAt: 2025-11-12 01:06:12 -0500 (Wed, 12 Nov 2025) EllapsedTime: 369.6 seconds RetCode: 0 Status: WARNINGS CheckDir: linkSet.Rcheck Warnings: 1