Package: lineagespot Version: 1.14.0 Command: /home/biocbuild/bbs-3.22-bioc/R/bin/R CMD build --keep-empty-dirs --no-resave-data --md5 lineagespot StartedAt: 2025-11-11 18:28:15 -0500 (Tue, 11 Nov 2025) EndedAt: 2025-11-11 18:29:19 -0500 (Tue, 11 Nov 2025) EllapsedTime: 64.1 seconds RetCode: 0 Status: OK PackageFile: lineagespot_1.14.0.tar.gz PackageFileSize: 719.8 KiB