Package: lineagespot Version: 1.12.0 Command: /home/biocbuild/R/R/bin/R CMD INSTALL lineagespot StartedAt: 2025-10-13 20:56:06 -0000 (Mon, 13 Oct 2025) EndedAt: 2025-10-13 20:57:02 -0000 (Mon, 13 Oct 2025) EllapsedTime: 55.6 seconds RetCode: 0 Status: OK