Package: lineagespot Version: 1.12.0 Command: /home/biocbuild/R/R/bin/R CMD build --keep-empty-dirs --no-resave-data lineagespot StartedAt: 2025-10-14 02:00:39 -0000 (Tue, 14 Oct 2025) EndedAt: 2025-10-14 02:02:13 -0000 (Tue, 14 Oct 2025) EllapsedTime: 94.0 seconds RetCode: 0 Status: OK PackageFile: lineagespot_1.12.0.tar.gz PackageFileSize: 785.5 KiB