Package: lineagespot Version: 1.14.0 Command: rm -rf lineagespot.buildbin-libdir && mkdir lineagespot.buildbin-libdir && /Users/biocbuild/BBS/utils/build-universal.sh lineagespot_1.14.0.tar.gz /Library/Frameworks/R.framework/Resources/bin/R lineagespot.buildbin-libdir StartedAt: 2025-11-06 23:09:57 -0500 (Thu, 06 Nov 2025) EndedAt: 2025-11-06 23:10:15 -0500 (Thu, 06 Nov 2025) EllapsedTime: 17.4 seconds RetCode: 0 Status: OK PackageFile: lineagespot_1.14.0.tgz PackageFileSize: 767.7 KiB